BEGIN:VCALENDAR
VERSION:2.0
PRODID:-//Tukios.com/
BEGIN:VEVENT
UID:1111719e-fe6f-4494-bb6e-0e0f0d400900@obituaries.colonialfunerals.com
DTSTAMP:20260421T000328Z
DTSTART:20260428T140000Z
DTEND:20260428T150000Z
SUMMARY:Viewing
DESCRIPTION:
URL:https://obituaries.colonialfunerals.com/madeline-trotman
LOCATION:Zion Baptist Church 137 Pearl St  Waterbury CT 06704
GEO:41.5646441;-73.0390058
END:VEVENT
END:VCALENDAR