BEGIN:VCALENDAR
VERSION:2.0
PRODID:-//Tukios.com/
BEGIN:VEVENT
UID:820895f5-7565-4b1d-94bd-5d2929f06bd1@obituaries.colonialfunerals.com
DTSTAMP:20260421T000442Z
DTSTART:20260428T150000Z
DTEND:20260428T160000Z
SUMMARY:Funeral Service
DESCRIPTION:
URL:https://obituaries.colonialfunerals.com/madeline-trotman
LOCATION:Zion Baptist Church 137 Pearl St  Waterbury CT 06704
GEO:41.5646441;-73.0390058
END:VEVENT
END:VCALENDAR