BEGIN:VCALENDAR
VERSION:2.0
PRODID:-//Tukios.com/
BEGIN:VEVENT
UID:ac5493fd-02e6-444b-81ee-7f97040c0e9a@obituaries.colonialfunerals.com
DTSTAMP:20260425T161153Z
DTSTART:20260508T140000Z
DTEND:20260508T150000Z
SUMMARY:Visitation
DESCRIPTION:
URL:https://obituaries.colonialfunerals.com/percy-penn-sr
LOCATION:Ebenezer Chapel 50 Dwight Street  New Haven CT 06511
GEO:41.307523;-72.9388972
END:VEVENT
END:VCALENDAR