BEGIN:VCALENDAR
VERSION:2.0
PRODID:-//Tukios.com/
BEGIN:VEVENT
UID:ab67e3b9-468d-47be-9e72-2fbecee08ba9@obituaries.colonialfunerals.com
DTSTAMP:20260425T161121Z
DTSTART:20260508T150000Z
DTEND:20260508T160000Z
SUMMARY:Funeral Service
DESCRIPTION:
URL:https://obituaries.colonialfunerals.com/percy-penn-sr
LOCATION:Ebenezer Chapel 50 Dwight Street  New Haven CT 06511
GEO:41.307523;-72.9388972
END:VEVENT
END:VCALENDAR