BEGIN:VCALENDAR
VERSION:2.0
PRODID:-//Tukios.com/
BEGIN:VEVENT
UID:80294a57-da51-4a71-becf-246af25f2307@obituaries.colonialfunerals.com
DTSTAMP:20260425T161219Z
DTSTART:20260508T170000Z
DTEND:20260508T174500Z
SUMMARY:Burial
DESCRIPTION:
URL:https://obituaries.colonialfunerals.com/percy-penn-sr
LOCATION:Hamden Plains Cemetery 285 Circular Avenue  Hamden CT 06514
GEO:41.3538973;-72.9360361
END:VEVENT
END:VCALENDAR